BEGIN:VCALENDAR
VERSION:2.0
PRODID:-//hacksw/handcal//NONSGML v1.0//EN
BEGIN:VEVENT
SUMMARY:Pauillac Groupe Competition & Benjamins Juniors Masters
UID:f0ab42bc-b216-4760-a8e9-8d4348ccb6bb
DTSTART:20260630T170000Z
DTEND:20260630T183000Z
LOCATION:Localisation Stade Nautique 1 rue Mandavy 33250 Pauillac
CATEGORIES:Sportif
STATUS:
URL;VALUE=URI:https://sam-natation-lesparre.sportsregions.fr/evenements/2026/06/30/pauillac-groupe-competition-benjamins-juniors-masters-2437366
END:VEVENT
END:VCALENDAR
