BEGIN:VCALENDAR
VERSION:2.0
PRODID:-//hacksw/handcal//NONSGML v1.0//EN
BEGIN:VEVENT
SUMMARY:Pauillac Debutants
UID:2f92a570-a76d-452d-b9c7-dfc25552532d
DTSTART:20260630T150000Z
DTEND:20260630T160000Z
LOCATION:Localisation Stade Nautique 1 rue Mandavy 33250 Pauillac
CATEGORIES:Sportif
STATUS:
URL;VALUE=URI:https://sam-natation-lesparre.sportsregions.fr/evenements/2026/06/30/pauillac-debutants-2437344
END:VEVENT
END:VCALENDAR
