BEGIN:VCALENDAR
VERSION:2.0
PRODID:-//hacksw/handcal//NONSGML v1.0//EN
BEGIN:VEVENT
SUMMARY:Pauillac Avenirs 123
UID:82428fa6-9b97-4fb5-a4e5-a1da6f4fd4e2
DTSTART:20260630T160000Z
DTEND:20260630T170000Z
LOCATION:Localisation Stade Nautique 1 rue Mandavy 33250 Pauillac
CATEGORIES:Sportif
STATUS:
URL;VALUE=URI:https://sam-natation-lesparre.sportsregions.fr/evenements/2026/06/30/pauillac-avenirs-123-2437355
END:VEVENT
END:VCALENDAR
