BEGIN:VCALENDAR
VERSION:2.0
PRODID:-//hacksw/handcal//NONSGML v1.0//EN
BEGIN:VEVENT
SUMMARY:Lesparre Groupe competition
UID:44a8fdfe-c42a-4554-afc8-29e86a06d1fe
DTSTART:20260630T173000Z
DTEND:20260630T190000Z
LOCATION:Localisation Centre Aqua Medoc 21 bis route de Bordeaux 33340 Lesparre Medoc
CATEGORIES:Sportif
STATUS:
URL;VALUE=URI:https://sam-natation-lesparre.sportsregions.fr/evenements/2026/06/30/lesparre-groupe-competition-2437193
END:VEVENT
END:VCALENDAR
