BEGIN:VCALENDAR
VERSION:2.0
PRODID:-//hacksw/handcal//NONSGML v1.0//EN
BEGIN:VEVENT
SUMMARY:Pauillac Groupe Competition & Benjamins Juniors Masters
UID:7cc43745-b2a5-4682-893d-e917f6d9f2f0
DTSTART:20260627T130000Z
DTEND:20260627T140000Z
LOCATION:Localisation Stade Nautique 1 rue Mandavy 33250 Pauillac
CATEGORIES:Sportif
STATUS:
URL;VALUE=URI:https://sam-natation-lesparre.sportsregions.fr/evenements/2026/06/27/pauillac-groupe-competition-benjamins-juniors-masters-2437395
END:VEVENT
END:VCALENDAR
