BEGIN:VCALENDAR
VERSION:2.0
PRODID:-//hacksw/handcal//NONSGML v1.0//EN
BEGIN:VEVENT
SUMMARY:Lesparre Debutants
UID:43ae04b0-59e7-4db4-a52a-7121a143f1be
DTSTART:20260627T090000Z
DTEND:20260627T100000Z
LOCATION:Localisation Centre Aqua Medoc 21 bis route de Bordeaux 33340 Lesparre Medoc
CATEGORIES:Sportif
STATUS:
URL;VALUE=URI:https://sam-natation-lesparre.sportsregions.fr/evenements/2026/06/27/lesparre-debutants-2437325
END:VEVENT
END:VCALENDAR
