BEGIN:VCALENDAR
VERSION:2.0
PRODID:-//hacksw/handcal//NONSGML v1.0//EN
BEGIN:VEVENT
SUMMARY:Lesparre Benjamins Juniors
UID:98b37b1c-c8df-4003-a709-62e629ad534f
DTSTART:20260627T070000Z
DTEND:20260627T080000Z
LOCATION:Localisation Centra Aqua Medoc 21 bis route de Bordeaux 33340 Lesparre Medoc
CATEGORIES:Sportif
STATUS:
URL;VALUE=URI:https://sam-natation-lesparre.sportsregions.fr/evenements/2026/06/27/lesparre-benjamins-juniors-2437300
END:VEVENT
END:VCALENDAR
