BEGIN:VCALENDAR
VERSION:2.0
PRODID:-//hacksw/handcal//NONSGML v1.0//EN
BEGIN:VEVENT
SUMMARY:Lesparre Avenirs 1
UID:12d79547-7d08-46cd-8217-4715298e793c
DTSTART:20260627T080000Z
DTEND:20260627T090000Z
LOCATION:Localisation Centre Aqua Medoc 21 bis route de Bordeaux 33340 Lesparre Medoc
CATEGORIES:Sportif
STATUS:
URL;VALUE=URI:https://sam-natation-lesparre.sportsregions.fr/evenements/2026/06/27/lesparre-avenirs-1-2437312
END:VEVENT
END:VCALENDAR
