BEGIN:VCALENDAR
VERSION:2.0
PRODID:-//hacksw/handcal//NONSGML v1.0//EN
BEGIN:VEVENT
SUMMARY:Lesparre Goupe Competition
UID:d1096761-9c08-4d6e-8fdf-2fd27ee199c7
DTSTART:20260626T170000Z
DTEND:20260626T180000Z
LOCATION:Localisation Centre Aqua Medoc 21 bis route de Bordeaux 33340 Lesparre Medoc
CATEGORIES:Sportif
STATUS:
URL;VALUE=URI:https://sam-natation-lesparre.sportsregions.fr/evenements/2026/06/26/lesparre-goupe-competition-2437240
END:VEVENT
END:VCALENDAR
