BEGIN:VCALENDAR
VERSION:2.0
PRODID:-//hacksw/handcal//NONSGML v1.0//EN
BEGIN:VEVENT
SUMMARY:Lesparre Avenirs 2&3
UID:5cc52c93-d913-466f-b2be-0160401e984a
DTSTART:20260626T160000Z
DTEND:20260626T170000Z
LOCATION:Localisation   
CATEGORIES:Sportif
STATUS:
URL;VALUE=URI:https://sam-natation-lesparre.sportsregions.fr/evenements/2026/06/26/lesparre-avenirs-23-2437288
END:VEVENT
END:VCALENDAR
