BEGIN:VCALENDAR
VERSION:2.0
PRODID:-//hacksw/handcal//NONSGML v1.0//EN
BEGIN:VEVENT
SUMMARY:Lesparre Groupe Competition
UID:c4114cd6-d4ee-41d4-ab2f-ff9fe87813a5
DTSTART:20260625T173000Z
DTEND:20260625T190000Z
LOCATION:Localisation Centre Aqua Medoc 21 bis route de Bordeaux 33340 Lesparre Medoc
CATEGORIES:Sportif
STATUS:
URL;VALUE=URI:https://sam-natation-lesparre.sportsregions.fr/evenements/2026/06/25/lesparre-groupe-competition-2437228
END:VEVENT
END:VCALENDAR
