BEGIN:VCALENDAR
VERSION:2.0
PRODID:-//hacksw/handcal//NONSGML v1.0//EN
BEGIN:VEVENT
SUMMARY:Lesparre Benjamins Juniors
UID:524c2166-421f-4a43-bfc5-bb1cde490e4c
DTSTART:20260625T160000Z
DTEND:20260625T170000Z
LOCATION:Localisation Centre Aqua Medoc 21 bis route de Bordeaux 33340 Lesparre Medoc
CATEGORIES:Sportif
STATUS:
URL;VALUE=URI:https://sam-natation-lesparre.sportsregions.fr/evenements/2026/06/25/lesparre-benjamins-juniors-2437276
END:VEVENT
END:VCALENDAR
