BEGIN:VCALENDAR
VERSION:2.0
PRODID:-//hacksw/handcal//NONSGML v1.0//EN
BEGIN:VEVENT
SUMMARY:Lesparre Avenirs 2&3
UID:959a3e8e-e3c5-4492-9c9e-de0352c9bc66
DTSTART:20260624T130000Z
DTEND:20260624T140000Z
LOCATION:Localisation Centre Aqua Medoc 21 bis route de Bordeaux 33340 Lesparre Medoc
CATEGORIES:Sportif
STATUS:
URL;VALUE=URI:https://sam-natation-lesparre.sportsregions.fr/evenements/2026/06/24/lesparre-avenirs-23-2437263
END:VEVENT
END:VCALENDAR
