BEGIN:VCALENDAR
VERSION:2.0
PRODID:-//hacksw/handcal//NONSGML v1.0//EN
BEGIN:VEVENT
SUMMARY:Lesparre Avenirs 1
UID:e326db25-8183-4150-9470-584a87410971
DTSTART:20260624T120000Z
DTEND:20260624T130000Z
LOCATION:Localisation Centre Aqua Medoc 21 bis route de Bordeaux 33340 Lesparre Medoc
CATEGORIES:Sportif
STATUS:
URL;VALUE=URI:https://sam-natation-lesparre.sportsregions.fr/evenements/2026/06/24/lesparre-avenirs-1-2437252
END:VEVENT
END:VCALENDAR
