BEGIN:VCALENDAR
VERSION:2.0
PRODID:-//hacksw/handcal//NONSGML v1.0//EN
BEGIN:VEVENT
SUMMARY:Pauillac Groupe Competition & Benjamins Juniors Masters
UID:b4e2bf7a-62fb-4577-a47a-ebb1ae18b43e
DTSTART:20260623T170000Z
DTEND:20260623T183000Z
LOCATION:Localisation Stade Nautique 1 rue Mandavy 33250 Pauillac
CATEGORIES:Sportif
STATUS:
URL;VALUE=URI:https://sam-natation-lesparre.sportsregions.fr/evenements/2026/06/23/pauillac-groupe-competition-benjamins-juniors-masters-2437373
END:VEVENT
END:VCALENDAR
