BEGIN:VCALENDAR
VERSION:2.0
PRODID:-//hacksw/handcal//NONSGML v1.0//EN
BEGIN:VEVENT
SUMMARY:Pauillac Debutants
UID:a5821a70-26ff-4cdb-97d3-98d88dbc613f
DTSTART:20260623T150000Z
DTEND:20260623T160000Z
LOCATION:Localisation Stade Nautique 1 rue Mandavy 33250 Pauillac
CATEGORIES:Sportif
STATUS:
URL;VALUE=URI:https://sam-natation-lesparre.sportsregions.fr/evenements/2026/06/23/pauillac-debutants-2437351
END:VEVENT
END:VCALENDAR
