BEGIN:VCALENDAR
VERSION:2.0
PRODID:-//hacksw/handcal//NONSGML v1.0//EN
BEGIN:VEVENT
SUMMARY:Pauillac Avenirs 123
UID:d493c312-7bdf-49f7-acbc-889d875166b3
DTSTART:20260623T160000Z
DTEND:20260623T170000Z
LOCATION:Localisation Stade Nautique 1 rue Mandavy 33250 Pauillac
CATEGORIES:Sportif
STATUS:
URL;VALUE=URI:https://sam-natation-lesparre.sportsregions.fr/evenements/2026/06/23/pauillac-avenirs-123-2437362
END:VEVENT
END:VCALENDAR
