BEGIN:VCALENDAR
VERSION:2.0
PRODID:-//hacksw/handcal//NONSGML v1.0//EN
BEGIN:VEVENT
SUMMARY:Pauillac Avenirs 123
UID:b7a044be-f5f1-411b-8822-a4d71beb173e
DTSTART:20260620T120000Z
DTEND:20260620T130000Z
LOCATION:Localisation Stade Nautique 1 rue Mandavy 33250 Pauillac
CATEGORIES:Sportif
STATUS:
URL;VALUE=URI:https://sam-natation-lesparre.sportsregions.fr/evenements/2026/06/20/pauillac-avenirs-123-2437377
END:VEVENT
END:VCALENDAR
