BEGIN:VCALENDAR
VERSION:2.0
PRODID:-//hacksw/handcal//NONSGML v1.0//EN
BEGIN:VEVENT
SUMMARY:Lesparre Groupe Competition
UID:a60346ca-e355-4bff-9432-2749cd5efc37
DTSTART:20260620T100000Z
DTEND:20260620T113000Z
LOCATION:Localisation Centre Aqua Medoc 21 bis route de Bordeaux 33340 Lesparre Medoc
CATEGORIES:Sportif
STATUS:
URL;VALUE=URI:https://sam-natation-lesparre.sportsregions.fr/evenements/2026/06/20/lesparre-groupe-competition-2437208
END:VEVENT
END:VCALENDAR
