BEGIN:VCALENDAR
VERSION:2.0
PRODID:-//hacksw/handcal//NONSGML v1.0//EN
BEGIN:VEVENT
SUMMARY:Lesparre Benjamins Juniors
UID:20c54bcd-da24-4f67-82f5-25fbdc6ab60a
DTSTART:20260620T070000Z
DTEND:20260620T080000Z
LOCATION:Localisation Centra Aqua Medoc 21 bis route de Bordeaux 33340 Lesparre Medoc
CATEGORIES:Sportif
STATUS:
URL;VALUE=URI:https://sam-natation-lesparre.sportsregions.fr/evenements/2026/06/20/lesparre-benjamins-juniors-2437293
END:VEVENT
END:VCALENDAR
