BEGIN:VCALENDAR
VERSION:2.0
PRODID:-//hacksw/handcal//NONSGML v1.0//EN
BEGIN:VEVENT
SUMMARY:Lesparre Goupe Competition
UID:9b094208-8042-4bb1-95ab-b2530201ce81
DTSTART:20260619T170000Z
DTEND:20260619T180000Z
LOCATION:Localisation Centre Aqua Medoc 21 bis route de Bordeaux 33340 Lesparre Medoc
CATEGORIES:Sportif
STATUS:
URL;VALUE=URI:https://sam-natation-lesparre.sportsregions.fr/evenements/2026/06/19/lesparre-goupe-competition-2437233
END:VEVENT
END:VCALENDAR
