BEGIN:VCALENDAR
VERSION:2.0
PRODID:-//hacksw/handcal//NONSGML v1.0//EN
BEGIN:VEVENT
SUMMARY:Lesparre Groupe Competition
UID:fd0d467d-6f15-4ddd-be04-7e5b7a6cc3e2
DTSTART:20260618T173000Z
DTEND:20260618T190000Z
LOCATION:Localisation Centre Aqua Medoc 21 bis route de Bordeaux 33340 Lesparre Medoc
CATEGORIES:Sportif
STATUS:
URL;VALUE=URI:https://sam-natation-lesparre.sportsregions.fr/evenements/2026/06/18/lesparre-groupe-competition-2437221
END:VEVENT
END:VCALENDAR
