BEGIN:VCALENDAR
VERSION:2.0
PRODID:-//hacksw/handcal//NONSGML v1.0//EN
BEGIN:VEVENT
SUMMARY:Lesparre Avenirs 2&3
UID:b81f92aa-391c-47d7-9385-c079b7829f93
DTSTART:20260617T130000Z
DTEND:20260617T140000Z
LOCATION:Localisation Centre Aqua Medoc 21 bis route de Bordeaux 33340 Lesparre Medoc
CATEGORIES:Sportif
STATUS:
URL;VALUE=URI:https://sam-natation-lesparre.sportsregions.fr/evenements/2026/06/17/lesparre-avenirs-23-2437256
END:VEVENT
END:VCALENDAR
