BEGIN:VCALENDAR
VERSION:2.0
PRODID:-//hacksw/handcal//NONSGML v1.0//EN
BEGIN:VEVENT
SUMMARY:Lesparre Avenirs 1
UID:5620c119-3ff4-450e-bd86-2db5a6a83335
DTSTART:20260617T120000Z
DTEND:20260617T130000Z
LOCATION:Localisation Centre Aqua Medoc 21 bis route de Bordeaux 33340 Lesparre Medoc
CATEGORIES:Sportif
STATUS:
URL;VALUE=URI:https://sam-natation-lesparre.sportsregions.fr/evenements/2026/06/17/lesparre-avenirs-1-2437245
END:VEVENT
END:VCALENDAR
