BEGIN:VCALENDAR
VERSION:2.0
PRODID:-//hacksw/handcal//NONSGML v1.0//EN
BEGIN:VEVENT
SUMMARY:Pauillac Groupe Competition & Benjamins Juniors Masters
UID:243dd4d2-e581-48da-971d-7341361ba493
DTSTART:20260616T170000Z
DTEND:20260616T183000Z
LOCATION:Localisation Stade Nautique 1 rue Mandavy 33250 Pauillac
CATEGORIES:Sportif
STATUS:
URL;VALUE=URI:https://sam-natation-lesparre.sportsregions.fr/evenements/2026/06/16/pauillac-groupe-competition-benjamins-juniors-masters-2437367
END:VEVENT
END:VCALENDAR
