BEGIN:VCALENDAR
VERSION:2.0
PRODID:-//hacksw/handcal//NONSGML v1.0//EN
BEGIN:VEVENT
SUMMARY:Pauillac Debutants
UID:b5807822-07b3-474f-acc2-0a9524699a90
DTSTART:20260616T150000Z
DTEND:20260616T160000Z
LOCATION:Localisation Stade Nautique 1 rue Mandavy 33250 Pauillac
CATEGORIES:Sportif
STATUS:
URL;VALUE=URI:https://sam-natation-lesparre.sportsregions.fr/evenements/2026/06/16/pauillac-debutants-2437345
END:VEVENT
END:VCALENDAR
