BEGIN:VCALENDAR
VERSION:2.0
PRODID:-//hacksw/handcal//NONSGML v1.0//EN
BEGIN:VEVENT
SUMMARY:Pauillac Avenirs 123
UID:a3007f61-1d29-474e-ac11-7342e1945af0
DTSTART:20260616T160000Z
DTEND:20260616T170000Z
LOCATION:Localisation Stade Nautique 1 rue Mandavy 33250 Pauillac
CATEGORIES:Sportif
STATUS:
URL;VALUE=URI:https://sam-natation-lesparre.sportsregions.fr/evenements/2026/06/16/pauillac-avenirs-123-2437356
END:VEVENT
END:VCALENDAR
