BEGIN:VCALENDAR
VERSION:2.0
PRODID:-//hacksw/handcal//NONSGML v1.0//EN
BEGIN:VEVENT
SUMMARY:Pauillac Groupe Competition & Benjamins Juniors Masters
UID:2c61a786-520e-4249-af18-e30b8f626f03
DTSTART:20260613T130000Z
DTEND:20260613T140000Z
LOCATION:Localisation Stade Nautique 1 rue Mandavy 33250 Pauillac
CATEGORIES:Sportif
STATUS:
URL;VALUE=URI:https://sam-natation-lesparre.sportsregions.fr/evenements/2026/06/13/pauillac-groupe-competition-benjamins-juniors-masters-2437389
END:VEVENT
END:VCALENDAR
