BEGIN:VCALENDAR
VERSION:2.0
PRODID:-//hacksw/handcal//NONSGML v1.0//EN
BEGIN:VEVENT
SUMMARY:Pauillac Avenirs 123
UID:b4057ffa-ead4-4e04-a7d0-28939a1e194f
DTSTART:20260613T120000Z
DTEND:20260613T130000Z
LOCATION:Localisation Stade Nautique 1 rue Mandavy 33250 Pauillac
CATEGORIES:Sportif
STATUS:
URL;VALUE=URI:https://sam-natation-lesparre.sportsregions.fr/evenements/2026/06/13/pauillac-avenirs-123-2437378
END:VEVENT
END:VCALENDAR
