BEGIN:VCALENDAR
VERSION:2.0
PRODID:-//hacksw/handcal//NONSGML v1.0//EN
BEGIN:VEVENT
SUMMARY:Lesparre Groupe Competition
UID:05af10c2-e6e4-49e2-9477-bf07968ccbe5
DTSTART:20260613T100000Z
DTEND:20260613T113000Z
LOCATION:Localisation Centre Aqua Medoc 21 bis route de Bordeaux 33340 Lesparre Medoc
CATEGORIES:Sportif
STATUS:
URL;VALUE=URI:https://sam-natation-lesparre.sportsregions.fr/evenements/2026/06/13/lesparre-groupe-competition-2437209
END:VEVENT
END:VCALENDAR
