BEGIN:VCALENDAR
VERSION:2.0
PRODID:-//hacksw/handcal//NONSGML v1.0//EN
BEGIN:VEVENT
SUMMARY:Lesparre Debutants
UID:b1250dbf-6ef7-4124-9f60-d827add6aa5b
DTSTART:20260613T090000Z
DTEND:20260613T100000Z
LOCATION:Localisation Centre Aqua Medoc 21 bis route de Bordeaux 33340 Lesparre Medoc
CATEGORIES:Sportif
STATUS:
URL;VALUE=URI:https://sam-natation-lesparre.sportsregions.fr/evenements/2026/06/13/lesparre-debutants-2437319
END:VEVENT
END:VCALENDAR
