BEGIN:VCALENDAR
VERSION:2.0
PRODID:-//hacksw/handcal//NONSGML v1.0//EN
BEGIN:VEVENT
SUMMARY:Pauillac Groupe Competition & Benjamins Juniors Masters
UID:73edd08d-46db-4856-8b09-fde6bd6bd9c2
DTSTART:20260609T170000Z
DTEND:20260609T183000Z
LOCATION:Localisation Stade Nautique 1 rue Mandavy 33250 Pauillac
CATEGORIES:Sportif
STATUS:
URL;VALUE=URI:https://sam-natation-lesparre.sportsregions.fr/evenements/2026/06/09/pauillac-groupe-competition-benjamins-juniors-masters-2437368
END:VEVENT
END:VCALENDAR
