BEGIN:VCALENDAR
VERSION:2.0
PRODID:-//hacksw/handcal//NONSGML v1.0//EN
BEGIN:VEVENT
SUMMARY:Lesparre Groupe competition
UID:89a3d962-5833-49b8-90b7-7357d49d557a
DTSTART:20260609T173000Z
DTEND:20260609T190000Z
LOCATION:Localisation Centre Aqua Medoc 21 bis route de Bordeaux 33340 Lesparre Medoc
CATEGORIES:Sportif
STATUS:
URL;VALUE=URI:https://sam-natation-lesparre.sportsregions.fr/evenements/2026/06/09/lesparre-groupe-competition-2437195
END:VEVENT
END:VCALENDAR
