BEGIN:VCALENDAR
VERSION:2.0
PRODID:-//hacksw/handcal//NONSGML v1.0//EN
BEGIN:VEVENT
SUMMARY:Pauillac Groupe Competition & Benjamins Juniors Masters
UID:fea12338-f929-4a67-9743-96f64c837790
DTSTART:20260602T170000Z
DTEND:20260602T183000Z
LOCATION:Localisation Stade Nautique 1 rue Mandavy 33250 Pauillac
CATEGORIES:Sportif
STATUS:
URL;VALUE=URI:https://sam-natation-lesparre.sportsregions.fr/evenements/2026/06/02/pauillac-groupe-competition-benjamins-juniors-masters-2437374
END:VEVENT
END:VCALENDAR
