BEGIN:VCALENDAR
VERSION:2.0
PRODID:-//hacksw/handcal//NONSGML v1.0//EN
BEGIN:VEVENT
SUMMARY:Graine de Competiteurs Competition Intra Club Piscine Pauillac
UID:fe66de2b-c4f0-44a3-b8a6-aaf6ab19c3bb
DTSTART:20260531T110000Z
DTEND:20260531T153000Z
LOCATION:Localisation Stade Nautique 1 rue Mandavy 33250 Pauillac
CATEGORIES:Sportif
STATUS:
URL;VALUE=URI:https://sam-natation-lesparre.sportsregions.fr/evenements/2026/05/31/graine-de-competiteurs-competition-intra-club-piscine-pauillac-2439572
END:VEVENT
END:VCALENDAR
