BEGIN:VCALENDAR
VERSION:2.0
PRODID:-//hacksw/handcal//NONSGML v1.0//EN
BEGIN:VEVENT
SUMMARY:Pauillac Groupe Competition & Benjamins Juniors Masters
UID:e9caccfe-cec3-4ebf-a3c7-27e65e8198d0
DTSTART:20260530T130000Z
DTEND:20260530T140000Z
LOCATION:Localisation Stade Nautique 1 rue Mandavy 33250 Pauillac
CATEGORIES:Sportif
STATUS:
URL;VALUE=URI:https://sam-natation-lesparre.sportsregions.fr/evenements/2026/05/30/pauillac-groupe-competition-benjamins-juniors-masters-2437392
END:VEVENT
END:VCALENDAR
