BEGIN:VCALENDAR
VERSION:2.0
PRODID:-//hacksw/handcal//NONSGML v1.0//EN
BEGIN:VEVENT
SUMMARY:Pauillac Avenirs 123
UID:f98fe208-83e2-47d7-ad5f-c32442bf2a1b
DTSTART:20260530T120000Z
DTEND:20260530T130000Z
LOCATION:Localisation Stade Nautique 1 rue Mandavy 33250 Pauillac
CATEGORIES:Sportif
STATUS:
URL;VALUE=URI:https://sam-natation-lesparre.sportsregions.fr/evenements/2026/05/30/pauillac-avenirs-123-2437381
END:VEVENT
END:VCALENDAR
