BEGIN:VCALENDAR
VERSION:2.0
PRODID:-//hacksw/handcal//NONSGML v1.0//EN
BEGIN:VEVENT
SUMMARY:Lesparre Groupe Competition
UID:1afbd8d5-dcca-4564-8ae7-2a3e80c941c8
DTSTART:20260530T100000Z
DTEND:20260530T113000Z
LOCATION:Localisation Centre Aqua Medoc 21 bis route de Bordeaux 33340 Lesparre Medoc
CATEGORIES:Sportif
STATUS:
URL;VALUE=URI:https://sam-natation-lesparre.sportsregions.fr/evenements/2026/05/30/lesparre-groupe-competition-2437212
END:VEVENT
END:VCALENDAR
