BEGIN:VCALENDAR
VERSION:2.0
PRODID:-//hacksw/handcal//NONSGML v1.0//EN
BEGIN:VEVENT
SUMMARY:Lesparre Groupe Competition
UID:0be5e30c-55c4-49f7-90f9-580e68bb8267
DTSTART:20260528T173000Z
DTEND:20260528T190000Z
LOCATION:Localisation Centre Aqua Medoc 21 bis route de Bordeaux 33340 Lesparre Medoc
CATEGORIES:Sportif
STATUS:
URL;VALUE=URI:https://sam-natation-lesparre.sportsregions.fr/evenements/2026/05/28/lesparre-groupe-competition-2437225
END:VEVENT
END:VCALENDAR
