BEGIN:VCALENDAR
VERSION:2.0
PRODID:-//hacksw/handcal//NONSGML v1.0//EN
BEGIN:VEVENT
SUMMARY:Pauillac Groupe Competition & Benjamins Juniors Masters
UID:c41d426b-5c75-47fe-9710-015738901da7
DTSTART:20260526T170000Z
DTEND:20260526T183000Z
LOCATION:Localisation Stade Nautique 1 rue Mandavy 33250 Pauillac
CATEGORIES:Sportif
STATUS:
URL;VALUE=URI:https://sam-natation-lesparre.sportsregions.fr/evenements/2026/05/26/pauillac-groupe-competition-benjamins-juniors-masters-2437370
END:VEVENT
END:VCALENDAR
