BEGIN:VCALENDAR
VERSION:2.0
PRODID:-//hacksw/handcal//NONSGML v1.0//EN
BEGIN:VEVENT
SUMMARY:Pauillac Avenirs 123
UID:b94d53c0-c559-4607-a8be-c37ec161c5f9
DTSTART:20260526T160000Z
DTEND:20260526T170000Z
LOCATION:Localisation Stade Nautique 1 rue Mandavy 33250 Pauillac
CATEGORIES:Sportif
STATUS:
URL;VALUE=URI:https://sam-natation-lesparre.sportsregions.fr/evenements/2026/05/26/pauillac-avenirs-123-2437359
END:VEVENT
END:VCALENDAR
