BEGIN:VCALENDAR
VERSION:2.0
PRODID:-//hacksw/handcal//NONSGML v1.0//EN
BEGIN:VEVENT
SUMMARY:Lesparre Groupe competition
UID:728c3e8d-f286-4a31-9662-f9392ffbb90c
DTSTART:20260526T173000Z
DTEND:20260526T190000Z
LOCATION:Localisation Centre Aqua Medoc 21 bis route de Bordeaux 33340 Lesparre Medoc
CATEGORIES:Sportif
STATUS:
URL;VALUE=URI:https://sam-natation-lesparre.sportsregions.fr/evenements/2026/05/26/lesparre-groupe-competition-2437197
END:VEVENT
END:VCALENDAR
