BEGIN:VCALENDAR
VERSION:2.0
PRODID:-//hacksw/handcal//NONSGML v1.0//EN
BEGIN:VEVENT
SUMMARY:Pauillac Groupe Competition & Benjamins Juniors Masters
UID:1f45601b-f383-4018-bf6f-b99e196545a3
DTSTART:20260523T130000Z
DTEND:20260523T140000Z
LOCATION:Localisation Stade Nautique 1 rue Mandavy 33250 Pauillac
CATEGORIES:Sportif
STATUS:
URL;VALUE=URI:https://sam-natation-lesparre.sportsregions.fr/evenements/2026/05/23/pauillac-groupe-competition-benjamins-juniors-masters-2437393
END:VEVENT
END:VCALENDAR
