BEGIN:VCALENDAR
VERSION:2.0
PRODID:-//hacksw/handcal//NONSGML v1.0//EN
BEGIN:VEVENT
SUMMARY:Pauillac Groupe Competition & Benjamins Juniors Masters
UID:b3f57a93-0d6b-4a8c-8d1a-aad2bfed6ebd
DTSTART:20260519T170000Z
DTEND:20260519T183000Z
LOCATION:Localisation Stade Nautique 1 rue Mandavy 33250 Pauillac
CATEGORIES:Sportif
STATUS:
URL;VALUE=URI:https://sam-natation-lesparre.sportsregions.fr/evenements/2026/05/19/pauillac-groupe-competition-benjamins-juniors-masters-2437371
END:VEVENT
END:VCALENDAR
