BEGIN:VCALENDAR
VERSION:2.0
PRODID:-//hacksw/handcal//NONSGML v1.0//EN
BEGIN:VEVENT
SUMMARY:Pauillac Avenirs 123
UID:db66af1d-2db2-448f-913a-10aeebdf3155
DTSTART:20260519T160000Z
DTEND:20260519T170000Z
LOCATION:Localisation Stade Nautique 1 rue Mandavy 33250 Pauillac
CATEGORIES:Sportif
STATUS:
URL;VALUE=URI:https://sam-natation-lesparre.sportsregions.fr/evenements/2026/05/19/pauillac-avenirs-123-2437360
END:VEVENT
END:VCALENDAR
