BEGIN:VCALENDAR
VERSION:2.0
PRODID:-//hacksw/handcal//NONSGML v1.0//EN
BEGIN:VEVENT
SUMMARY:Lesparre Groupe competition
UID:88afecad-d8ff-40e0-b5bb-01108019d355
DTSTART:20260519T173000Z
DTEND:20260519T190000Z
LOCATION:Localisation Centre Aqua Medoc 21 bis route de Bordeaux 33340 Lesparre Medoc
CATEGORIES:Sportif
STATUS:
URL;VALUE=URI:https://sam-natation-lesparre.sportsregions.fr/evenements/2026/05/19/lesparre-groupe-competition-2437198
END:VEVENT
END:VCALENDAR
