BEGIN:VCALENDAR
VERSION:2.0
PRODID:-//hacksw/handcal//NONSGML v1.0//EN
BEGIN:VEVENT
SUMMARY:Pauillac Groupe Competition & Benjamins Juniors Masters
UID:476b8bd9-15e3-4e94-9522-e291f9ff6ae0
DTSTART:20260516T130000Z
DTEND:20260516T140000Z
LOCATION:Localisation Stade Nautique 1 rue Mandavy 33250 Pauillac
CATEGORIES:Sportif
STATUS:
URL;VALUE=URI:https://sam-natation-lesparre.sportsregions.fr/evenements/2026/05/16/pauillac-groupe-competition-benjamins-juniors-masters-2437391
END:VEVENT
END:VCALENDAR
