BEGIN:VCALENDAR
VERSION:2.0
PRODID:-//hacksw/handcal//NONSGML v1.0//EN
BEGIN:VEVENT
SUMMARY:Pauillac Avenirs 123
UID:9c848521-10bd-4116-a15d-619d94a0f869
DTSTART:20260516T120000Z
DTEND:20260516T130000Z
LOCATION:Localisation Stade Nautique 1 rue Mandavy 33250 Pauillac
CATEGORIES:Sportif
STATUS:
URL;VALUE=URI:https://sam-natation-lesparre.sportsregions.fr/evenements/2026/05/16/pauillac-avenirs-123-2437380
END:VEVENT
END:VCALENDAR
