BEGIN:VCALENDAR
VERSION:2.0
PRODID:-//hacksw/handcal//NONSGML v1.0//EN
BEGIN:VEVENT
SUMMARY:Lesparre Benjamins Juniors
UID:3282136f-af8b-476c-b6f9-0e9fe58a4e2c
DTSTART:20260516T070000Z
DTEND:20260516T080000Z
LOCATION:Localisation Centra Aqua Medoc 21 bis route de Bordeaux 33340 Lesparre Medoc
CATEGORIES:Sportif
STATUS:
URL;VALUE=URI:https://sam-natation-lesparre.sportsregions.fr/evenements/2026/05/16/lesparre-benjamins-juniors-2437296
END:VEVENT
END:VCALENDAR
