BEGIN:VCALENDAR
VERSION:2.0
PRODID:-//hacksw/handcal//NONSGML v1.0//EN
BEGIN:VEVENT
SUMMARY:Lesparre Avenirs 1
UID:8d37c094-bb4e-46a9-b484-3ab55c2acf04
DTSTART:20260516T080000Z
DTEND:20260516T090000Z
LOCATION:Localisation Centre Aqua Medoc 21 bis route de Bordeaux 33340 Lesparre Medoc
CATEGORIES:Sportif
STATUS:
URL;VALUE=URI:https://sam-natation-lesparre.sportsregions.fr/evenements/2026/05/16/lesparre-avenirs-1-2437308
END:VEVENT
END:VCALENDAR
